BEGIN:VCALENDAR
VERSION:2.0
PRODID:-//The Gary Kelly Cancer Support Centre - ECPv6.1.3//NONSGML v1.0//EN
CALSCALE:GREGORIAN
METHOD:PUBLISH
X-ORIGINAL-URL:https://gkcancersupport.com
X-WR-CALDESC:Events for The Gary Kelly Cancer Support Centre
REFRESH-INTERVAL;VALUE=DURATION:PT1H
X-Robots-Tag:noindex
X-PUBLISHED-TTL:PT1H
BEGIN:VTIMEZONE
TZID:UTC
BEGIN:STANDARD
TZOFFSETFROM:+0000
TZOFFSETTO:+0000
TZNAME:UTC
DTSTART:20240101T000000
END:STANDARD
END:VTIMEZONE
BEGIN:VEVENT
DTSTART;TZID=UTC:20240112T130000
DTEND;TZID=UTC:20240112T143000
DTSTAMP:20260425T013315
CREATED:20231221T101626Z
LAST-MODIFIED:20240103T100456Z
UID:1085-1705064400-1705069800@gkcancersupport.com
SUMMARY:Mindfulness for Women
DESCRIPTION:
URL:https://gkcancersupport.com/event/mindfulness-for-women-3/
END:VEVENT
END:VCALENDAR