BEGIN:VCALENDAR
VERSION:2.0
PRODID:-//The Gary Kelly Cancer Support Centre - ECPv6.1.3//NONSGML v1.0//EN
CALSCALE:GREGORIAN
METHOD:PUBLISH
X-WR-CALNAME:The Gary Kelly Cancer Support Centre
X-ORIGINAL-URL:https://gkcancersupport.com
X-WR-CALDESC:Events for The Gary Kelly Cancer Support Centre
REFRESH-INTERVAL;VALUE=DURATION:PT1H
X-Robots-Tag:noindex
X-PUBLISHED-TTL:PT1H
BEGIN:VTIMEZONE
TZID:UTC
BEGIN:STANDARD
TZOFFSETFROM:+0000
TZOFFSETTO:+0000
TZNAME:UTC
DTSTART:20240101T000000
END:STANDARD
END:VTIMEZONE
BEGIN:VEVENT
DTSTART;TZID=UTC:20240306T113000
DTEND;TZID=UTC:20240306T123000
DTSTAMP:20260424T230542
CREATED:20240304T164434Z
LAST-MODIFIED:20240304T164434Z
UID:1145-1709724600-1709728200@gkcancersupport.com
SUMMARY:Women's Support Group
DESCRIPTION:
URL:https://gkcancersupport.com/event/womens-support-group-7/
ATTACH;FMTTYPE=image/jpeg:https://gkcancersupport.com/wp-content/uploads/2024/03/Womens-Support-Group-Mar-24.jpg
END:VEVENT
BEGIN:VEVENT
DTSTART;TZID=UTC:20240306T133000
DTEND;TZID=UTC:20240306T153000
DTSTAMP:20260424T230542
CREATED:20240304T165119Z
LAST-MODIFIED:20240304T165119Z
UID:1148-1709731800-1709739000@gkcancersupport.com
SUMMARY:Easter Crafts
DESCRIPTION:
URL:https://gkcancersupport.com/event/easter-crafts/
ATTACH;FMTTYPE=image/jpeg:https://gkcancersupport.com/wp-content/uploads/2024/03/Easter-Crafts-March-24-1.jpg
END:VEVENT
END:VCALENDAR