BEGIN:VCALENDAR
VERSION:2.0
PRODID:-//The Gary Kelly Cancer Support Centre - ECPv6.1.3//NONSGML v1.0//EN
CALSCALE:GREGORIAN
METHOD:PUBLISH
X-WR-CALNAME:The Gary Kelly Cancer Support Centre
X-ORIGINAL-URL:https://gkcancersupport.com
X-WR-CALDESC:Events for The Gary Kelly Cancer Support Centre
REFRESH-INTERVAL;VALUE=DURATION:PT1H
X-Robots-Tag:noindex
X-PUBLISHED-TTL:PT1H
BEGIN:VTIMEZONE
TZID:UTC
BEGIN:STANDARD
TZOFFSETFROM:+0000
TZOFFSETTO:+0000
TZNAME:UTC
DTSTART:20240101T000000
END:STANDARD
END:VTIMEZONE
BEGIN:VEVENT
DTSTART;TZID=UTC:20240501T113000
DTEND;TZID=UTC:20240501T123000
DTSTAMP:20260424T130700
CREATED:20231031T125919Z
LAST-MODIFIED:20240426T144750Z
UID:983-1714563000-1714566600@gkcancersupport.com
SUMMARY:Women's Support Group
DESCRIPTION:
URL:https://gkcancersupport.com/event/womens-support-group-4/
LOCATION:Gary Kelly Cancer Support Centre\, George’s St\, Drogheda\, Louth\, Ireland
ATTACH;FMTTYPE=image/jpeg:https://gkcancersupport.com/wp-content/uploads/2024/04/Womens-Support-Group.jpg
END:VEVENT
BEGIN:VEVENT
DTSTART;TZID=UTC:20240501T143000
DTEND;TZID=UTC:20240501T160000
DTSTAMP:20260424T130700
CREATED:20240426T143047Z
LAST-MODIFIED:20240426T144639Z
UID:1317-1714573800-1714579200@gkcancersupport.com
SUMMARY:Chat n'Catch Up
DESCRIPTION:
URL:https://gkcancersupport.com/event/chat-ncatch-up-2/
LOCATION:Gary Kelly Cancer Support Centre\, George’s St\, Drogheda\, Louth\, Ireland
END:VEVENT
END:VCALENDAR