BEGIN:VCALENDAR
VERSION:2.0
PRODID:-//The Gary Kelly Cancer Support Centre - ECPv6.1.3//NONSGML v1.0//EN
CALSCALE:GREGORIAN
METHOD:PUBLISH
X-WR-CALNAME:The Gary Kelly Cancer Support Centre
X-ORIGINAL-URL:https://gkcancersupport.com
X-WR-CALDESC:Events for The Gary Kelly Cancer Support Centre
REFRESH-INTERVAL;VALUE=DURATION:PT1H
X-Robots-Tag:noindex
X-PUBLISHED-TTL:PT1H
BEGIN:VTIMEZONE
TZID:UTC
BEGIN:STANDARD
TZOFFSETFROM:+0000
TZOFFSETTO:+0000
TZNAME:UTC
DTSTART:20240101T000000
END:STANDARD
END:VTIMEZONE
BEGIN:VEVENT
DTSTART;TZID=UTC:20240514T113000
DTEND;TZID=UTC:20240514T123000
DTSTAMP:20260424T130658
CREATED:20240130T100449Z
LAST-MODIFIED:20240426T145326Z
UID:1104-1715686200-1715689800@gkcancersupport.com
SUMMARY:All Things Hair
DESCRIPTION:
URL:https://gkcancersupport.com/event/all-things-hair-3/
LOCATION:Gary Kelly Cancer Support Centre\, George’s St\, Drogheda\, Louth\, Ireland
ATTACH;FMTTYPE=image/jpeg:https://gkcancersupport.com/wp-content/uploads/2024/04/All-things-hair-1.jpg
END:VEVENT
END:VCALENDAR