BEGIN:VCALENDAR
VERSION:2.0
PRODID:-//The Gary Kelly Cancer Support Centre - ECPv6.1.3//NONSGML v1.0//EN
CALSCALE:GREGORIAN
METHOD:PUBLISH
X-ORIGINAL-URL:https://gkcancersupport.com
X-WR-CALDESC:Events for The Gary Kelly Cancer Support Centre
REFRESH-INTERVAL;VALUE=DURATION:PT1H
X-Robots-Tag:noindex
X-PUBLISHED-TTL:PT1H
BEGIN:VTIMEZONE
TZID:UTC
BEGIN:STANDARD
TZOFFSETFROM:+0000
TZOFFSETTO:+0000
TZNAME:UTC
DTSTART:20240101T000000
END:STANDARD
END:VTIMEZONE
BEGIN:VEVENT
DTSTART;TZID=UTC:20240620T110000
DTEND;TZID=UTC:20240620T120000
DTSTAMP:20260421T224006
CREATED:20240604T151742Z
LAST-MODIFIED:20240604T151742Z
UID:1388-1718881200-1718884800@gkcancersupport.com
SUMMARY:Walking Group
DESCRIPTION:
URL:https://gkcancersupport.com/event/walking-group-3/
ATTACH;FMTTYPE=image/jpeg:https://gkcancersupport.com/wp-content/uploads/2024/06/Walking-group-1.jpg
END:VEVENT
BEGIN:VEVENT
DTSTART;TZID=UTC:20240620T140000
DTEND;TZID=UTC:20240620T160000
DTSTAMP:20260421T224006
CREATED:20240604T113505Z
LAST-MODIFIED:20240604T113505Z
UID:1371-1718892000-1718899200@gkcancersupport.com
SUMMARY:Look Good Feel Better
DESCRIPTION:
URL:https://gkcancersupport.com/event/look-good-feel-better-4/
ATTACH;FMTTYPE=image/jpeg:https://gkcancersupport.com/wp-content/uploads/2024/06/Look-good-feel-better-June.jpg
END:VEVENT
END:VCALENDAR