BEGIN:VCALENDAR
VERSION:2.0
PRODID:-//The Gary Kelly Cancer Support Centre - ECPv6.1.3//NONSGML v1.0//EN
CALSCALE:GREGORIAN
METHOD:PUBLISH
X-ORIGINAL-URL:https://gkcancersupport.com
X-WR-CALDESC:Events for The Gary Kelly Cancer Support Centre
REFRESH-INTERVAL;VALUE=DURATION:PT1H
X-Robots-Tag:noindex
X-PUBLISHED-TTL:PT1H
BEGIN:VTIMEZONE
TZID:UTC
BEGIN:STANDARD
TZOFFSETFROM:+0000
TZOFFSETTO:+0000
TZNAME:UTC
DTSTART:20240101T000000
END:STANDARD
END:VTIMEZONE
BEGIN:VEVENT
DTSTART;TZID=UTC:20240701T143000
DTEND;TZID=UTC:20240701T160000
DTSTAMP:20260421T211659
CREATED:20240624T152120Z
LAST-MODIFIED:20240624T152120Z
UID:1398-1719844200-1719849600@gkcancersupport.com
SUMMARY:Chat 'n Catch Up
DESCRIPTION:
URL:https://gkcancersupport.com/event/chat-n-catch-up-6/
ATTACH;FMTTYPE=image/jpeg:https://gkcancersupport.com/wp-content/uploads/2024/06/Chat-n-catch-up-no.1.jpg
END:VEVENT
END:VCALENDAR