BEGIN:VCALENDAR
VERSION:2.0
PRODID:-//The Gary Kelly Cancer Support Centre - ECPv6.1.3//NONSGML v1.0//EN
CALSCALE:GREGORIAN
METHOD:PUBLISH
X-ORIGINAL-URL:https://gkcancersupport.com
X-WR-CALDESC:Events for The Gary Kelly Cancer Support Centre
REFRESH-INTERVAL;VALUE=DURATION:PT1H
X-Robots-Tag:noindex
X-PUBLISHED-TTL:PT1H
BEGIN:VTIMEZONE
TZID:UTC
BEGIN:STANDARD
TZOFFSETFROM:+0000
TZOFFSETTO:+0000
TZNAME:UTC
DTSTART:20240101T000000
END:STANDARD
END:VTIMEZONE
BEGIN:VEVENT
DTSTART;TZID=UTC:20240806T140000
DTEND;TZID=UTC:20240806T160000
DTSTAMP:20260421T182536
CREATED:20240723T090542Z
LAST-MODIFIED:20240723T090542Z
UID:1437-1722952800-1722960000@gkcancersupport.com
SUMMARY:Look Good Feel Better
DESCRIPTION:
URL:https://gkcancersupport.com/event/look-good-feel-better-5/
ATTACH;FMTTYPE=image/jpeg:https://gkcancersupport.com/wp-content/uploads/2024/07/Look-good-feel-better-Tuesday-6th-August-2-4pm.jpg
END:VEVENT
END:VCALENDAR