BEGIN:VCALENDAR
VERSION:2.0
PRODID:-//The Gary Kelly Cancer Support Centre - ECPv6.1.3//NONSGML v1.0//EN
CALSCALE:GREGORIAN
METHOD:PUBLISH
X-WR-CALNAME:The Gary Kelly Cancer Support Centre
X-ORIGINAL-URL:https://gkcancersupport.com
X-WR-CALDESC:Events for The Gary Kelly Cancer Support Centre
REFRESH-INTERVAL;VALUE=DURATION:PT1H
X-Robots-Tag:noindex
X-PUBLISHED-TTL:PT1H
BEGIN:VTIMEZONE
TZID:UTC
BEGIN:STANDARD
TZOFFSETFROM:+0000
TZOFFSETTO:+0000
TZNAME:UTC
DTSTART:20250101T000000
END:STANDARD
END:VTIMEZONE
BEGIN:VEVENT
DTSTART;TZID=UTC:20250915T140000
DTEND;TZID=UTC:20250915T150000
DTSTAMP:20260421T174412
CREATED:20250818T111629Z
LAST-MODIFIED:20250818T111629Z
UID:2082-1757944800-1757948400@gkcancersupport.com
SUMMARY:Women's Information Talk
DESCRIPTION:
URL:https://gkcancersupport.com/event/womens-information-talk-2/
ATTACH;FMTTYPE=image/jpeg:https://gkcancersupport.com/wp-content/uploads/2025/08/Womens-Information-Talk-15.09.25.jpg
END:VEVENT
END:VCALENDAR