BEGIN:VCALENDAR
VERSION:2.0
PRODID:-//The Gary Kelly Cancer Support Centre - ECPv6.1.3//NONSGML v1.0//EN
CALSCALE:GREGORIAN
METHOD:PUBLISH
X-ORIGINAL-URL:https://gkcancersupport.com
X-WR-CALDESC:Events for The Gary Kelly Cancer Support Centre
REFRESH-INTERVAL;VALUE=DURATION:PT1H
X-Robots-Tag:noindex
X-PUBLISHED-TTL:PT1H
BEGIN:VTIMEZONE
TZID:UTC
BEGIN:STANDARD
TZOFFSETFROM:+0000
TZOFFSETTO:+0000
TZNAME:UTC
DTSTART:20250101T000000
END:STANDARD
END:VTIMEZONE
BEGIN:VEVENT
DTSTART;TZID=UTC:20250925T140000
DTEND;TZID=UTC:20250925T153000
DTSTAMP:20260422T003431
CREATED:20250815T085920Z
LAST-MODIFIED:20250815T085920Z
UID:2074-1758808800-1758814200@gkcancersupport.com
SUMMARY:Mindfulness for men
DESCRIPTION:
URL:https://gkcancersupport.com/event/mindfulness-for-men-42/
ATTACH;FMTTYPE=image/png:https://gkcancersupport.com/wp-content/uploads/2025/08/Mindfulness-for-Men-25.09.25.png
END:VEVENT
BEGIN:VEVENT
DTSTART;TZID=UTC:20250925T143000
DTEND;TZID=UTC:20250925T153000
DTSTAMP:20260422T003431
CREATED:20250818T111911Z
LAST-MODIFIED:20250818T111911Z
UID:2086-1758810600-1758814200@gkcancersupport.com
SUMMARY:Book Club
DESCRIPTION:
URL:https://gkcancersupport.com/event/book-club-14/
ATTACH;FMTTYPE=image/png:https://gkcancersupport.com/wp-content/uploads/2025/08/Book-Club-25.09.25.png
END:VEVENT
END:VCALENDAR