BEGIN:VCALENDAR
VERSION:2.0
PRODID:-//The Gary Kelly Cancer Support Centre - ECPv6.1.3//NONSGML v1.0//EN
CALSCALE:GREGORIAN
METHOD:PUBLISH
X-ORIGINAL-URL:https://gkcancersupport.com
X-WR-CALDESC:Events for The Gary Kelly Cancer Support Centre
REFRESH-INTERVAL;VALUE=DURATION:PT1H
X-Robots-Tag:noindex
X-PUBLISHED-TTL:PT1H
BEGIN:VTIMEZONE
TZID:UTC
BEGIN:STANDARD
TZOFFSETFROM:+0000
TZOFFSETTO:+0000
TZNAME:UTC
DTSTART:20260101T000000
END:STANDARD
END:VTIMEZONE
BEGIN:VEVENT
DTSTART;TZID=UTC:20260216T110000
DTEND;TZID=UTC:20260216T120000
DTSTAMP:20260421T113129
CREATED:20260128T200351Z
LAST-MODIFIED:20260128T200351Z
UID:2420-1771239600-1771243200@gkcancersupport.com
SUMMARY:Nutrition & Diet Information Talk
DESCRIPTION:
URL:https://gkcancersupport.com/event/nutrition-diet-information-talk-2/
ATTACH;FMTTYPE=image/png:https://gkcancersupport.com/wp-content/uploads/2026/01/Nutrition-Diet-Information-Talk-16.02.26.png
END:VEVENT
END:VCALENDAR