BEGIN:VCALENDAR
VERSION:2.0
PRODID:-//The Gary Kelly Cancer Support Centre - ECPv6.1.3//NONSGML v1.0//EN
CALSCALE:GREGORIAN
METHOD:PUBLISH
X-ORIGINAL-URL:https://gkcancersupport.com
X-WR-CALDESC:Events for The Gary Kelly Cancer Support Centre
REFRESH-INTERVAL;VALUE=DURATION:PT1H
X-Robots-Tag:noindex
X-PUBLISHED-TTL:PT1H
BEGIN:VTIMEZONE
TZID:UTC
BEGIN:STANDARD
TZOFFSETFROM:+0000
TZOFFSETTO:+0000
TZNAME:UTC
DTSTART:20230101T000000
END:STANDARD
END:VTIMEZONE
BEGIN:VEVENT
DTSTART;TZID=UTC:20231103T130000
DTEND;TZID=UTC:20231103T143000
DTSTAMP:20260425T013429
CREATED:20231031T130049Z
LAST-MODIFIED:20231031T130049Z
UID:986-1699016400-1699021800@gkcancersupport.com
SUMMARY:Mindfulness For Ladies
DESCRIPTION:
URL:https://gkcancersupport.com/event/mindfulness-for-ladies-5/
LOCATION:Gary Kelly Cancer Support Centre\, George’s St\, Drogheda\, Louth\, Ireland
END:VEVENT
BEGIN:VEVENT
DTSTART;TZID=UTC:20231107T113000
DTEND;TZID=UTC:20231107T123000
DTSTAMP:20260425T013429
CREATED:20231031T141427Z
LAST-MODIFIED:20231031T141427Z
UID:989-1699356600-1699360200@gkcancersupport.com
SUMMARY:All Things Hair
DESCRIPTION:
URL:https://gkcancersupport.com/event/all-things-hair/
LOCATION:Gary Kelly Cancer Support Centre\, George’s St\, Drogheda\, Louth\, Ireland
END:VEVENT
BEGIN:VEVENT
DTSTART;TZID=UTC:20231109T140000
DTEND;TZID=UTC:20231109T150000
DTSTAMP:20260425T013429
CREATED:20231031T141732Z
LAST-MODIFIED:20231031T141732Z
UID:996-1699538400-1699542000@gkcancersupport.com
SUMMARY:Mindfulness For Men
DESCRIPTION:
URL:https://gkcancersupport.com/event/mindfulness-for-men-5/
LOCATION:Gary Kelly Cancer Support Centre\, George’s St\, Drogheda\, Louth\, Ireland
END:VEVENT
BEGIN:VEVENT
DTSTART;TZID=UTC:20231113T140000
DTEND;TZID=UTC:20231113T160000
DTSTAMP:20260425T013429
CREATED:20231031T142045Z
LAST-MODIFIED:20231031T142045Z
UID:998-1699884000-1699891200@gkcancersupport.com
SUMMARY:Flower Arranging
DESCRIPTION:
URL:https://gkcancersupport.com/event/flower-arranging/
LOCATION:Gary Kelly Cancer Support Centre\, George’s St\, Drogheda\, Louth\, Ireland
END:VEVENT
BEGIN:VEVENT
DTSTART;TZID=UTC:20231115T143000
DTEND;TZID=UTC:20231115T153000
DTSTAMP:20260425T013429
CREATED:20231031T142551Z
LAST-MODIFIED:20231031T142551Z
UID:1001-1700058600-1700062200@gkcancersupport.com
SUMMARY:Bereavement Support Group
DESCRIPTION:
URL:https://gkcancersupport.com/event/bereavement-support-group-4/
LOCATION:Gary Kelly Cancer Support Centre\, George’s St\, Drogheda\, Louth\, Ireland
END:VEVENT
BEGIN:VEVENT
DTSTART;TZID=UTC:20231116T140000
DTEND;TZID=UTC:20231116T160000
DTSTAMP:20260425T013429
CREATED:20231031T142727Z
LAST-MODIFIED:20231031T142727Z
UID:1004-1700143200-1700150400@gkcancersupport.com
SUMMARY:Look Good Feel Better
DESCRIPTION:
URL:https://gkcancersupport.com/event/look-good-feel-better/
LOCATION:Gary Kelly Cancer Support Centre\, George’s St\, Drogheda\, Louth\, Ireland
END:VEVENT
BEGIN:VEVENT
DTSTART;TZID=UTC:20231117T130000
DTEND;TZID=UTC:20231117T143000
DTSTAMP:20260425T013429
CREATED:20231031T144050Z
LAST-MODIFIED:20231108T165151Z
UID:1007-1700226000-1700231400@gkcancersupport.com
SUMMARY:Mindfulness For Women
DESCRIPTION:
URL:https://gkcancersupport.com/event/mindfulness-for-ladies-6/
END:VEVENT
BEGIN:VEVENT
DTSTART;TZID=UTC:20231122T143000
DTEND;TZID=UTC:20231122T153000
DTSTAMP:20260425T013429
CREATED:20231031T141556Z
LAST-MODIFIED:20231102T144848Z
UID:993-1700663400-1700667000@gkcancersupport.com
SUMMARY:Men's Support Group
DESCRIPTION:
URL:https://gkcancersupport.com/event/mens-support-group-5/
LOCATION:Gary Kelly Cancer Support Centre\, George’s St\, Drogheda\, Louth\, Ireland
END:VEVENT
BEGIN:VEVENT
DTSTART;TZID=UTC:20231122T143000
DTEND;TZID=UTC:20231122T153000
DTSTAMP:20260425T013429
CREATED:20231031T144723Z
LAST-MODIFIED:20231031T144723Z
UID:1010-1700663400-1700667000@gkcancersupport.com
SUMMARY:Family Support Group
DESCRIPTION:
URL:https://gkcancersupport.com/event/family-support-group-4/
LOCATION:Gary Kelly Cancer Support Centre\, George’s St\, Drogheda\, Louth\, Ireland
END:VEVENT
BEGIN:VEVENT
DTSTART;TZID=UTC:20231123T140000
DTEND;TZID=UTC:20231123T160000
DTSTAMP:20260425T013429
CREATED:20231031T144913Z
LAST-MODIFIED:20231031T144913Z
UID:1013-1700748000-1700755200@gkcancersupport.com
SUMMARY:Mindfulness for Men
DESCRIPTION:
URL:https://gkcancersupport.com/event/mindfulness-for-men-6/
END:VEVENT
BEGIN:VEVENT
DTSTART;TZID=UTC:20231127T103000
DTEND;TZID=UTC:20231127T120000
DTSTAMP:20260425T013429
CREATED:20231031T154545Z
LAST-MODIFIED:20231031T154545Z
UID:1016-1701081000-1701086400@gkcancersupport.com
SUMMARY:Challenges of Sleep Workshop
DESCRIPTION:
URL:https://gkcancersupport.com/event/challenges-of-sleep-workshop/
END:VEVENT
END:VCALENDAR