BEGIN:VCALENDAR
VERSION:2.0
PRODID:-//The Gary Kelly Cancer Support Centre - ECPv6.1.3//NONSGML v1.0//EN
CALSCALE:GREGORIAN
METHOD:PUBLISH
X-WR-CALNAME:The Gary Kelly Cancer Support Centre
X-ORIGINAL-URL:https://gkcancersupport.com
X-WR-CALDESC:Events for The Gary Kelly Cancer Support Centre
REFRESH-INTERVAL;VALUE=DURATION:PT1H
X-Robots-Tag:noindex
X-PUBLISHED-TTL:PT1H
BEGIN:VTIMEZONE
TZID:UTC
BEGIN:STANDARD
TZOFFSETFROM:+0000
TZOFFSETTO:+0000
TZNAME:UTC
DTSTART:20240101T000000
END:STANDARD
END:VTIMEZONE
BEGIN:VEVENT
DTSTART;TZID=UTC:20240105T123000
DTEND;TZID=UTC:20240105T140000
DTSTAMP:20260424T225004
CREATED:20240426T141234Z
LAST-MODIFIED:20240426T141234Z
UID:1294-1704457800-1704463200@gkcancersupport.com
SUMMARY:Laughter Yoga
DESCRIPTION:
URL:https://gkcancersupport.com/event/laughter-yoga-3/
LOCATION:Gary Kelly Cancer Support Centre\, George’s St\, Drogheda\, Louth\, Ireland
END:VEVENT
BEGIN:VEVENT
DTSTART;TZID=UTC:20240111T140000
DTEND;TZID=UTC:20240111T150000
DTSTAMP:20260424T225004
CREATED:20231221T101307Z
LAST-MODIFIED:20240103T100600Z
UID:1081-1704981600-1704985200@gkcancersupport.com
SUMMARY:Mindfulness for Men
DESCRIPTION:
URL:https://gkcancersupport.com/event/mindfulness-for-men-9/
END:VEVENT
BEGIN:VEVENT
DTSTART;TZID=UTC:20240112T130000
DTEND;TZID=UTC:20240112T143000
DTSTAMP:20260424T225004
CREATED:20231221T101626Z
LAST-MODIFIED:20240103T100456Z
UID:1085-1705064400-1705069800@gkcancersupport.com
SUMMARY:Mindfulness for Women
DESCRIPTION:
URL:https://gkcancersupport.com/event/mindfulness-for-women-3/
END:VEVENT
BEGIN:VEVENT
DTSTART;TZID=UTC:20240116T140000
DTEND;TZID=UTC:20240116T150000
DTSTAMP:20260424T225004
CREATED:20231221T100641Z
LAST-MODIFIED:20240103T095501Z
UID:1077-1705413600-1705417200@gkcancersupport.com
SUMMARY:Laughter Yoga
DESCRIPTION:
URL:https://gkcancersupport.com/event/laughter-yoga/
END:VEVENT
BEGIN:VEVENT
DTSTART;TZID=UTC:20240125T140000
DTEND;TZID=UTC:20240125T150000
DTSTAMP:20260424T225004
CREATED:20231221T101545Z
LAST-MODIFIED:20240103T095342Z
UID:1083-1706191200-1706194800@gkcancersupport.com
SUMMARY:Mindfulness for men
DESCRIPTION:
URL:https://gkcancersupport.com/event/mindfulness-for-men-10/
END:VEVENT
BEGIN:VEVENT
DTSTART;TZID=UTC:20240126T130000
DTEND;TZID=UTC:20240126T143000
DTSTAMP:20260424T225004
CREATED:20231221T101826Z
LAST-MODIFIED:20240103T095032Z
UID:1087-1706274000-1706279400@gkcancersupport.com
SUMMARY:Mindfulness for Women
DESCRIPTION:
URL:https://gkcancersupport.com/event/mindfulness-for-women-4/
END:VEVENT
BEGIN:VEVENT
DTSTART;TZID=UTC:20240129T100000
DTEND;TZID=UTC:20240129T113000
DTSTAMP:20260424T225004
CREATED:20231221T100944Z
LAST-MODIFIED:20240103T094911Z
UID:1079-1706522400-1706527800@gkcancersupport.com
SUMMARY:Happy Sleep Workshop
DESCRIPTION:
URL:https://gkcancersupport.com/event/happy-sleep-workshop/
END:VEVENT
END:VCALENDAR