BEGIN:VCALENDAR
VERSION:2.0
PRODID:-//The Gary Kelly Cancer Support Centre - ECPv6.1.3//NONSGML v1.0//EN
CALSCALE:GREGORIAN
METHOD:PUBLISH
X-ORIGINAL-URL:https://gkcancersupport.com
X-WR-CALDESC:Events for The Gary Kelly Cancer Support Centre
REFRESH-INTERVAL;VALUE=DURATION:PT1H
X-Robots-Tag:noindex
X-PUBLISHED-TTL:PT1H
BEGIN:VTIMEZONE
TZID:UTC
BEGIN:STANDARD
TZOFFSETFROM:+0000
TZOFFSETTO:+0000
TZNAME:UTC
DTSTART:20240101T000000
END:STANDARD
END:VTIMEZONE
BEGIN:VEVENT
DTSTART;TZID=UTC:20240207T113000
DTEND;TZID=UTC:20240207T123000
DTSTAMP:20260424T212439
CREATED:20240130T100843Z
LAST-MODIFIED:20240130T100843Z
UID:1107-1707305400-1707309000@gkcancersupport.com
SUMMARY:Women's Support Group
DESCRIPTION:
URL:https://gkcancersupport.com/event/womens-support-group-6/
END:VEVENT
BEGIN:VEVENT
DTSTART;TZID=UTC:20240208T140000
DTEND;TZID=UTC:20240208T150000
DTSTAMP:20260424T212439
CREATED:20240130T102705Z
LAST-MODIFIED:20240130T102705Z
UID:1110-1707400800-1707404400@gkcancersupport.com
SUMMARY:Exercise Talk
DESCRIPTION:
URL:https://gkcancersupport.com/event/exercise-talk-2/
LOCATION:Gary Kelly Cancer Support Centre\, George’s St\, Drogheda\, Louth\, Ireland
END:VEVENT
BEGIN:VEVENT
DTSTART;TZID=UTC:20240209T130000
DTEND;TZID=UTC:20240209T143000
DTSTAMP:20260424T212439
CREATED:20240130T103241Z
LAST-MODIFIED:20240130T103241Z
UID:1113-1707483600-1707489000@gkcancersupport.com
SUMMARY:Mindfulness For Women
DESCRIPTION:
URL:https://gkcancersupport.com/event/mindfulness-for-women-5/
LOCATION:Gary Kelly Cancer Support Centre\, George’s St\, Drogheda\, Louth\, Ireland
END:VEVENT
BEGIN:VEVENT
DTSTART;TZID=UTC:20240212T140000
DTEND;TZID=UTC:20240212T160000
DTSTAMP:20260424T212439
CREATED:20240130T103401Z
LAST-MODIFIED:20240130T103718Z
UID:1116-1707746400-1707753600@gkcancersupport.com
SUMMARY:Flower Arranging
DESCRIPTION:
URL:https://gkcancersupport.com/event/flower-arranging-3/
LOCATION:Gary Kelly Cancer Support Centre\, George’s St\, Drogheda\, Louth\, Ireland
END:VEVENT
BEGIN:VEVENT
DTSTART;TZID=UTC:20240214T143000
DTEND;TZID=UTC:20240214T153000
DTSTAMP:20260424T212439
CREATED:20240130T103915Z
LAST-MODIFIED:20240130T103915Z
UID:1120-1707921000-1707924600@gkcancersupport.com
SUMMARY:Men's Support Group
DESCRIPTION:
URL:https://gkcancersupport.com/event/mens-support-group-7/
LOCATION:Gary Kelly Cancer Support Centre\, George’s St\, Drogheda\, Louth\, Ireland
END:VEVENT
BEGIN:VEVENT
DTSTART;TZID=UTC:20240215T140000
DTEND;TZID=UTC:20240215T150000
DTSTAMP:20260424T212439
CREATED:20240130T104023Z
LAST-MODIFIED:20240130T104023Z
UID:1123-1708005600-1708009200@gkcancersupport.com
SUMMARY:Mindfulness For Men
DESCRIPTION:
URL:https://gkcancersupport.com/event/mindfulness-for-men-11/
LOCATION:Gary Kelly Cancer Support Centre\, George’s St\, Drogheda\, Louth\, Ireland
END:VEVENT
BEGIN:VEVENT
DTSTART;TZID=UTC:20240219T120000
DTEND;TZID=UTC:20240219T140000
DTSTAMP:20260424T212439
CREATED:20240130T104126Z
LAST-MODIFIED:20240130T104126Z
UID:1127-1708344000-1708351200@gkcancersupport.com
SUMMARY:Creative Writing
DESCRIPTION:
URL:https://gkcancersupport.com/event/creative-writing/
LOCATION:Gary Kelly Cancer Support Centre\, George’s St\, Drogheda\, Louth\, Ireland
END:VEVENT
BEGIN:VEVENT
DTSTART;TZID=UTC:20240220T143000
DTEND;TZID=UTC:20240220T153000
DTSTAMP:20260424T212439
CREATED:20240130T104229Z
LAST-MODIFIED:20240130T104229Z
UID:1130-1708439400-1708443000@gkcancersupport.com
SUMMARY:Escape Into A Book
DESCRIPTION:
URL:https://gkcancersupport.com/event/escape-into-a-book/
LOCATION:Gary Kelly Cancer Support Centre\, George’s St\, Drogheda\, Louth\, Ireland
END:VEVENT
BEGIN:VEVENT
DTSTART;TZID=UTC:20240221T143000
DTEND;TZID=UTC:20240221T153000
DTSTAMP:20260424T212439
CREATED:20240130T104325Z
LAST-MODIFIED:20240130T104325Z
UID:1133-1708525800-1708529400@gkcancersupport.com
SUMMARY:Bereavement Support Group
DESCRIPTION:
URL:https://gkcancersupport.com/event/bereavement-support-group-6/
LOCATION:Gary Kelly Cancer Support Centre\, George’s St\, Drogheda\, Louth\, Ireland
ATTACH;FMTTYPE=image/jpeg:https://gkcancersupport.com/wp-content/uploads/2024/01/Bereavement-Support-Group-Feb-24.jpg
END:VEVENT
BEGIN:VEVENT
DTSTART;TZID=UTC:20240223T130000
DTEND;TZID=UTC:20240223T143000
DTSTAMP:20260424T212439
CREATED:20240130T104438Z
LAST-MODIFIED:20240130T104438Z
UID:1136-1708693200-1708698600@gkcancersupport.com
SUMMARY:Mindfulness For Women
DESCRIPTION:
URL:https://gkcancersupport.com/event/mindfulness-for-women-6/
LOCATION:Gary Kelly Cancer Support Centre\, George’s St\, Drogheda\, Louth\, Ireland
ATTACH;FMTTYPE=image/jpeg:https://gkcancersupport.com/wp-content/uploads/2024/01/Mindfulness-for-women-2-Feb-A4.jpg
END:VEVENT
BEGIN:VEVENT
DTSTART;TZID=UTC:20240229T140000
DTEND;TZID=UTC:20240229T150000
DTSTAMP:20260424T212439
CREATED:20240130T104541Z
LAST-MODIFIED:20240130T104541Z
UID:1139-1709215200-1709218800@gkcancersupport.com
SUMMARY:Mindfulness for Men
DESCRIPTION:
URL:https://gkcancersupport.com/event/mindfulness-for-men-12/
LOCATION:Gary Kelly Cancer Support Centre\, George’s St\, Drogheda\, Louth\, Ireland
ATTACH;FMTTYPE=image/jpeg:https://gkcancersupport.com/wp-content/uploads/2024/01/mindfulness-for-men-29th-feb.jpg
END:VEVENT
END:VCALENDAR