BEGIN:VCALENDAR
VERSION:2.0
PRODID:-//The Gary Kelly Cancer Support Centre - ECPv6.1.3//NONSGML v1.0//EN
CALSCALE:GREGORIAN
METHOD:PUBLISH
X-WR-CALNAME:The Gary Kelly Cancer Support Centre
X-ORIGINAL-URL:https://gkcancersupport.com
X-WR-CALDESC:Events for The Gary Kelly Cancer Support Centre
REFRESH-INTERVAL;VALUE=DURATION:PT1H
X-Robots-Tag:noindex
X-PUBLISHED-TTL:PT1H
BEGIN:VTIMEZONE
TZID:UTC
BEGIN:STANDARD
TZOFFSETFROM:+0000
TZOFFSETTO:+0000
TZNAME:UTC
DTSTART:20240101T000000
END:STANDARD
END:VTIMEZONE
BEGIN:VEVENT
DTSTART;TZID=UTC:20240306T113000
DTEND;TZID=UTC:20240306T123000
DTSTAMP:20260424T183802
CREATED:20240304T164434Z
LAST-MODIFIED:20240304T164434Z
UID:1145-1709724600-1709728200@gkcancersupport.com
SUMMARY:Women's Support Group
DESCRIPTION:
URL:https://gkcancersupport.com/event/womens-support-group-7/
ATTACH;FMTTYPE=image/jpeg:https://gkcancersupport.com/wp-content/uploads/2024/03/Womens-Support-Group-Mar-24.jpg
END:VEVENT
BEGIN:VEVENT
DTSTART;TZID=UTC:20240306T133000
DTEND;TZID=UTC:20240306T153000
DTSTAMP:20260424T183802
CREATED:20240304T165119Z
LAST-MODIFIED:20240304T165119Z
UID:1148-1709731800-1709739000@gkcancersupport.com
SUMMARY:Easter Crafts
DESCRIPTION:
URL:https://gkcancersupport.com/event/easter-crafts/
ATTACH;FMTTYPE=image/jpeg:https://gkcancersupport.com/wp-content/uploads/2024/03/Easter-Crafts-March-24-1.jpg
END:VEVENT
BEGIN:VEVENT
DTSTART;TZID=UTC:20240307T103000
DTEND;TZID=UTC:20240307T130000
DTSTAMP:20260424T183802
CREATED:20240304T165442Z
LAST-MODIFIED:20240304T165442Z
UID:1151-1709807400-1709816400@gkcancersupport.com
SUMMARY:Cancer Thrive & Survive
DESCRIPTION:
URL:https://gkcancersupport.com/event/cancer-thrive-survive/
ATTACH;FMTTYPE=image/jpeg:https://gkcancersupport.com/wp-content/uploads/2024/03/CTS-2024-no.1-1.jpg
END:VEVENT
BEGIN:VEVENT
DTSTART;TZID=UTC:20240308T130000
DTEND;TZID=UTC:20240308T143000
DTSTAMP:20260424T183802
CREATED:20240304T165633Z
LAST-MODIFIED:20240304T165633Z
UID:1155-1709902800-1709908200@gkcancersupport.com
SUMMARY:Mindfulness for Women
DESCRIPTION:
URL:https://gkcancersupport.com/event/mindfulness-for-women-7/
ATTACH;FMTTYPE=image/jpeg:https://gkcancersupport.com/wp-content/uploads/2024/03/Mindfulness-for-women-Mar-8th-scaled.jpg
END:VEVENT
BEGIN:VEVENT
DTSTART;TZID=UTC:20240313T143000
DTEND;TZID=UTC:20240313T153000
DTSTAMP:20260424T183802
CREATED:20240305T164414Z
LAST-MODIFIED:20240305T164414Z
UID:1171-1710340200-1710343800@gkcancersupport.com
SUMMARY:Men's Support Group
DESCRIPTION:
URL:https://gkcancersupport.com/event/mens-support-group-8/
ATTACH;FMTTYPE=image/jpeg:https://gkcancersupport.com/wp-content/uploads/2024/03/Mens-Support-Group-March-24.jpg
END:VEVENT
BEGIN:VEVENT
DTSTART;TZID=UTC:20240314T140000
DTEND;TZID=UTC:20240314T150000
DTSTAMP:20260424T183802
CREATED:20240305T164533Z
LAST-MODIFIED:20240305T164533Z
UID:1174-1710424800-1710428400@gkcancersupport.com
SUMMARY:Mindfulness for Men
DESCRIPTION:
URL:https://gkcancersupport.com/event/mindfulness-for-men-13/
ATTACH;FMTTYPE=image/jpeg:https://gkcancersupport.com/wp-content/uploads/2024/03/Mindfulness-for-men-March-14th.jpg
END:VEVENT
BEGIN:VEVENT
DTSTART;TZID=UTC:20240319T143000
DTEND;TZID=UTC:20240319T160000
DTSTAMP:20260424T183802
CREATED:20240305T164137Z
LAST-MODIFIED:20240305T165734Z
UID:1168-1710858600-1710864000@gkcancersupport.com
SUMMARY:Chat 'n Catch Up
DESCRIPTION:
URL:https://gkcancersupport.com/event/chat-n-catch-up/
ATTACH;FMTTYPE=image/jpeg:https://gkcancersupport.com/wp-content/uploads/2024/03/Chat-nCatch-up-2.jpg
END:VEVENT
BEGIN:VEVENT
DTSTART;TZID=UTC:20240320T143000
DTEND;TZID=UTC:20240320T153000
DTSTAMP:20260424T183802
CREATED:20240305T164651Z
LAST-MODIFIED:20240305T164651Z
UID:1177-1710945000-1710948600@gkcancersupport.com
SUMMARY:Bereavement Support Group
DESCRIPTION:
URL:https://gkcancersupport.com/event/bereavement-support-group-7/
ATTACH;FMTTYPE=image/jpeg:https://gkcancersupport.com/wp-content/uploads/2024/03/Bereavement-Support-Group-Mar-24.jpg
END:VEVENT
BEGIN:VEVENT
DTSTART;TZID=UTC:20240321T140000
DTEND;TZID=UTC:20240321T160000
DTSTAMP:20260424T183802
CREATED:20240305T164820Z
LAST-MODIFIED:20240305T164820Z
UID:1180-1711029600-1711036800@gkcancersupport.com
SUMMARY:Look Good Feel Better
DESCRIPTION:
URL:https://gkcancersupport.com/event/look-good-feel-better-2/
ATTACH;FMTTYPE=image/jpeg:https://gkcancersupport.com/wp-content/uploads/2024/03/Look-Good-Feel-Better-March-.jpg
END:VEVENT
BEGIN:VEVENT
DTSTART;TZID=UTC:20240322T130000
DTEND;TZID=UTC:20240322T143000
DTSTAMP:20260424T183802
CREATED:20240305T164934Z
LAST-MODIFIED:20240305T164934Z
UID:1183-1711112400-1711117800@gkcancersupport.com
SUMMARY:Mindfulness for Women
DESCRIPTION:
URL:https://gkcancersupport.com/event/mindfulness-for-women-8/
ATTACH;FMTTYPE=image/jpeg:https://gkcancersupport.com/wp-content/uploads/2024/03/Mindfulness-for-Women-March-22-scaled.jpg
END:VEVENT
BEGIN:VEVENT
DTSTART;TZID=UTC:20240325T103000
DTEND;TZID=UTC:20240325T123000
DTSTAMP:20260424T183802
CREATED:20240305T165157Z
LAST-MODIFIED:20240306T115715Z
UID:1186-1711362600-1711369800@gkcancersupport.com
SUMMARY:Art Therapy
DESCRIPTION:
URL:https://gkcancersupport.com/event/art-therapy/
ATTACH;FMTTYPE=image/jpeg:https://gkcancersupport.com/wp-content/uploads/2024/03/Art-Therapy-March-24.jpg
END:VEVENT
BEGIN:VEVENT
DTSTART;TZID=UTC:20240326T143000
DTEND;TZID=UTC:20240326T153000
DTSTAMP:20260424T183802
CREATED:20240305T165319Z
LAST-MODIFIED:20240305T165319Z
UID:1189-1711463400-1711467000@gkcancersupport.com
SUMMARY:Book Club
DESCRIPTION:
URL:https://gkcancersupport.com/event/book-club/
ATTACH;FMTTYPE=image/jpeg:https://gkcancersupport.com/wp-content/uploads/2024/03/book-club-poster.jpg
END:VEVENT
BEGIN:VEVENT
DTSTART;TZID=UTC:20240328T140000
DTEND;TZID=UTC:20240328T150000
DTSTAMP:20260424T183802
CREATED:20240305T165432Z
LAST-MODIFIED:20240305T165432Z
UID:1192-1711634400-1711638000@gkcancersupport.com
SUMMARY:Mindfulness for Men
DESCRIPTION:
URL:https://gkcancersupport.com/event/mindfulness-for-men-14/
ATTACH;FMTTYPE=image/jpeg:https://gkcancersupport.com/wp-content/uploads/2024/03/Mindfulness-for-men-March-28.jpg
END:VEVENT
END:VCALENDAR