BEGIN:VCALENDAR
VERSION:2.0
PRODID:-//The Gary Kelly Cancer Support Centre - ECPv6.1.3//NONSGML v1.0//EN
CALSCALE:GREGORIAN
METHOD:PUBLISH
X-WR-CALNAME:The Gary Kelly Cancer Support Centre
X-ORIGINAL-URL:https://gkcancersupport.com
X-WR-CALDESC:Events for The Gary Kelly Cancer Support Centre
REFRESH-INTERVAL;VALUE=DURATION:PT1H
X-Robots-Tag:noindex
X-PUBLISHED-TTL:PT1H
BEGIN:VTIMEZONE
TZID:UTC
BEGIN:STANDARD
TZOFFSETFROM:+0000
TZOFFSETTO:+0000
TZNAME:UTC
DTSTART:20240101T000000
END:STANDARD
END:VTIMEZONE
BEGIN:VEVENT
DTSTART;TZID=UTC:20240501T113000
DTEND;TZID=UTC:20240501T123000
DTSTAMP:20260424T143529
CREATED:20231031T125919Z
LAST-MODIFIED:20240426T144750Z
UID:983-1714563000-1714566600@gkcancersupport.com
SUMMARY:Women's Support Group
DESCRIPTION:
URL:https://gkcancersupport.com/event/womens-support-group-4/
LOCATION:Gary Kelly Cancer Support Centre\, George’s St\, Drogheda\, Louth\, Ireland
ATTACH;FMTTYPE=image/jpeg:https://gkcancersupport.com/wp-content/uploads/2024/04/Womens-Support-Group.jpg
END:VEVENT
BEGIN:VEVENT
DTSTART;TZID=UTC:20240501T143000
DTEND;TZID=UTC:20240501T160000
DTSTAMP:20260424T143529
CREATED:20240426T143047Z
LAST-MODIFIED:20240426T144639Z
UID:1317-1714573800-1714579200@gkcancersupport.com
SUMMARY:Chat n'Catch Up
DESCRIPTION:
URL:https://gkcancersupport.com/event/chat-ncatch-up-2/
LOCATION:Gary Kelly Cancer Support Centre\, George’s St\, Drogheda\, Louth\, Ireland
END:VEVENT
BEGIN:VEVENT
DTSTART;TZID=UTC:20240503T130000
DTEND;TZID=UTC:20240503T143000
DTSTAMP:20260424T143529
CREATED:20240426T141822Z
LAST-MODIFIED:20240426T144925Z
UID:1301-1714741200-1714746600@gkcancersupport.com
SUMMARY:Mindfulness For Women
DESCRIPTION:
URL:https://gkcancersupport.com/event/mindfulness-for-women-10/
LOCATION:Gary Kelly Cancer Support Centre\, George’s St\, Drogheda\, Louth\, Ireland
ATTACH;FMTTYPE=image/jpeg:https://gkcancersupport.com/wp-content/uploads/2024/04/Womens-Mindfulness-May-no.1-2-1.jpg
END:VEVENT
BEGIN:VEVENT
DTSTART;TZID=UTC:20240508T143000
DTEND;TZID=UTC:20240508T153000
DTSTAMP:20260424T143529
CREATED:20240426T142033Z
LAST-MODIFIED:20240426T145010Z
UID:1304-1715178600-1715182200@gkcancersupport.com
SUMMARY:Men's Support Group
DESCRIPTION:
URL:https://gkcancersupport.com/event/mens-support-group-10/
LOCATION:Gary Kelly Cancer Support Centre\, George’s St\, Drogheda\, Louth\, Ireland
ATTACH;FMTTYPE=image/jpeg:https://gkcancersupport.com/wp-content/uploads/2024/04/Mens-Support-May-1.jpg
END:VEVENT
BEGIN:VEVENT
DTSTART;TZID=UTC:20240513T143000
DTEND;TZID=UTC:20240513T153000
DTSTAMP:20260424T143529
CREATED:20240426T142221Z
LAST-MODIFIED:20240426T145047Z
UID:1307-1715610600-1715614200@gkcancersupport.com
SUMMARY:Men's Information Talk
DESCRIPTION:
URL:https://gkcancersupport.com/event/mens-information-talk/
LOCATION:Gary Kelly Cancer Support Centre\, George’s St\, Drogheda\, Louth\, Ireland
ATTACH;FMTTYPE=image/jpeg:https://gkcancersupport.com/wp-content/uploads/2024/04/Mens-Information-Talk-May-24.jpg
END:VEVENT
BEGIN:VEVENT
DTSTART;TZID=UTC:20240514T113000
DTEND;TZID=UTC:20240514T123000
DTSTAMP:20260424T143529
CREATED:20240130T100449Z
LAST-MODIFIED:20240426T145326Z
UID:1104-1715686200-1715689800@gkcancersupport.com
SUMMARY:All Things Hair
DESCRIPTION:
URL:https://gkcancersupport.com/event/all-things-hair-3/
LOCATION:Gary Kelly Cancer Support Centre\, George’s St\, Drogheda\, Louth\, Ireland
ATTACH;FMTTYPE=image/jpeg:https://gkcancersupport.com/wp-content/uploads/2024/04/All-things-hair-1.jpg
END:VEVENT
BEGIN:VEVENT
DTSTART;TZID=UTC:20240515T143000
DTEND;TZID=UTC:20240515T153000
DTSTAMP:20260424T143529
CREATED:20240326T123449Z
LAST-MODIFIED:20240426T145428Z
UID:1223-1715783400-1715787000@gkcancersupport.com
SUMMARY:Bereavement Support Group
DESCRIPTION:
URL:https://gkcancersupport.com/event/bereavement-support-group-8/
ATTACH;FMTTYPE=image/jpeg:https://gkcancersupport.com/wp-content/uploads/2024/04/Bwereavement-Support-May-15th-1-1.jpg
END:VEVENT
BEGIN:VEVENT
DTSTART;TZID=UTC:20240516T140000
DTEND;TZID=UTC:20240516T150000
DTSTAMP:20260424T143529
CREATED:20240326T125003Z
LAST-MODIFIED:20240426T145510Z
UID:1240-1715868000-1715871600@gkcancersupport.com
SUMMARY:Mindfulness for Men
DESCRIPTION:
URL:https://gkcancersupport.com/event/mindfulness-for-men-16/
ATTACH;FMTTYPE=image/jpeg:https://gkcancersupport.com/wp-content/uploads/2024/04/Mindfulness-for-men-May-16th.jpg
END:VEVENT
BEGIN:VEVENT
DTSTART;TZID=UTC:20240517T100000
DTEND;TZID=UTC:20240517T113000
DTSTAMP:20260424T143529
CREATED:20240426T142530Z
LAST-MODIFIED:20240426T145612Z
UID:1312-1715940000-1715945400@gkcancersupport.com
SUMMARY:It Starts and Ends With Us
DESCRIPTION:
URL:https://gkcancersupport.com/event/it-starts-and-ends-with-us/
LOCATION:Gary Kelly Cancer Support Centre\, George’s St\, Drogheda\, Louth\, Ireland
ATTACH;FMTTYPE=image/jpeg:https://gkcancersupport.com/wp-content/uploads/2024/04/It-starts-and-Ends-with-us-poster-1-1.jpg
END:VEVENT
BEGIN:VEVENT
DTSTART;TZID=UTC:20240517T130000
DTEND;TZID=UTC:20240517T143000
DTSTAMP:20260424T143529
CREATED:20240426T141511Z
LAST-MODIFIED:20240426T145731Z
UID:1299-1715950800-1715956200@gkcancersupport.com
SUMMARY:Mindfulness for women
DESCRIPTION:
URL:https://gkcancersupport.com/event/womens-support-group-9/
LOCATION:Gary Kelly Cancer Support Centre\, George’s St\, Drogheda\, Louth\, Ireland
ATTACH;FMTTYPE=image/jpeg:https://gkcancersupport.com/wp-content/uploads/2024/04/Mindfulness-for-Women-no.2.jpg
END:VEVENT
BEGIN:VEVENT
DTSTART;TZID=UTC:20240523T143000
DTEND;TZID=UTC:20240523T153000
DTSTAMP:20260424T143529
CREATED:20240426T142647Z
LAST-MODIFIED:20240426T145822Z
UID:1315-1716474600-1716478200@gkcancersupport.com
SUMMARY:Book Club
DESCRIPTION:
URL:https://gkcancersupport.com/event/book-club-3/
LOCATION:Gary Kelly Cancer Support Centre\, George’s St\, Drogheda\, Louth\, Ireland
ATTACH;FMTTYPE=image/jpeg:https://gkcancersupport.com/wp-content/uploads/2024/04/book-club.jpg
END:VEVENT
BEGIN:VEVENT
DTSTART;TZID=UTC:20240527T110000
DTEND;TZID=UTC:20240527T123000
DTSTAMP:20260424T143529
CREATED:20240426T141353Z
LAST-MODIFIED:20240426T145947Z
UID:1297-1716807600-1716813000@gkcancersupport.com
SUMMARY:Chat n'Catch Up
DESCRIPTION:
URL:https://gkcancersupport.com/event/chat-ncatch-up/
LOCATION:Gary Kelly Cancer Support Centre\, George’s St\, Drogheda\, Louth\, Ireland
END:VEVENT
BEGIN:VEVENT
DTSTART;TZID=UTC:20240529T140000
DTEND;TZID=UTC:20240529T160000
DTSTAMP:20260424T143529
CREATED:20240426T143246Z
LAST-MODIFIED:20240426T144338Z
UID:1319-1716991200-1716998400@gkcancersupport.com
SUMMARY:Candle Making
DESCRIPTION:
URL:https://gkcancersupport.com/event/candle-making/
LOCATION:Gary Kelly Cancer Support Centre\, George’s St\, Drogheda\, Louth\, Ireland
ATTACH;FMTTYPE=image/jpeg:https://gkcancersupport.com/wp-content/uploads/2024/04/Candle-Making.jpg
END:VEVENT
BEGIN:VEVENT
DTSTART;TZID=UTC:20240530T140000
DTEND;TZID=UTC:20240530T150000
DTSTAMP:20260424T143529
CREATED:20240326T123717Z
LAST-MODIFIED:20240426T150132Z
UID:1228-1717077600-1717081200@gkcancersupport.com
SUMMARY:Mindfulness for Men
DESCRIPTION:
URL:https://gkcancersupport.com/event/mindfulness-for-women-9/
END:VEVENT
END:VCALENDAR