BEGIN:VCALENDAR
VERSION:2.0
PRODID:-//The Gary Kelly Cancer Support Centre - ECPv6.1.3//NONSGML v1.0//EN
CALSCALE:GREGORIAN
METHOD:PUBLISH
X-ORIGINAL-URL:https://gkcancersupport.com
X-WR-CALDESC:Events for The Gary Kelly Cancer Support Centre
REFRESH-INTERVAL;VALUE=DURATION:PT1H
X-Robots-Tag:noindex
X-PUBLISHED-TTL:PT1H
BEGIN:VTIMEZONE
TZID:UTC
BEGIN:STANDARD
TZOFFSETFROM:+0000
TZOFFSETTO:+0000
TZNAME:UTC
DTSTART:20240101T000000
END:STANDARD
END:VTIMEZONE
BEGIN:VEVENT
DTSTART;TZID=UTC:20240806T140000
DTEND;TZID=UTC:20240806T160000
DTSTAMP:20260421T165828
CREATED:20240723T090542Z
LAST-MODIFIED:20240723T090542Z
UID:1437-1722952800-1722960000@gkcancersupport.com
SUMMARY:Look Good Feel Better
DESCRIPTION:
URL:https://gkcancersupport.com/event/look-good-feel-better-5/
ATTACH;FMTTYPE=image/jpeg:https://gkcancersupport.com/wp-content/uploads/2024/07/Look-good-feel-better-Tuesday-6th-August-2-4pm.jpg
END:VEVENT
BEGIN:VEVENT
DTSTART;TZID=UTC:20240807T113000
DTEND;TZID=UTC:20240807T123000
DTSTAMP:20260421T165828
CREATED:20240723T090708Z
LAST-MODIFIED:20240723T090708Z
UID:1440-1723030200-1723033800@gkcancersupport.com
SUMMARY:Women's Support Group
DESCRIPTION:
URL:https://gkcancersupport.com/event/womens-support-group-12/
ATTACH;FMTTYPE=image/jpeg:https://gkcancersupport.com/wp-content/uploads/2024/07/Womens-Support-Group.jpg
END:VEVENT
BEGIN:VEVENT
DTSTART;TZID=UTC:20240808T140000
DTEND;TZID=UTC:20240808T150000
DTSTAMP:20260421T165828
CREATED:20240723T090807Z
LAST-MODIFIED:20240723T090807Z
UID:1443-1723125600-1723129200@gkcancersupport.com
SUMMARY:Mindfulness For Men
DESCRIPTION:
URL:https://gkcancersupport.com/event/mindfulness-for-men-21/
ATTACH;FMTTYPE=image/jpeg:https://gkcancersupport.com/wp-content/uploads/2024/07/Mindfullnes-For-Men-8th-august.jpg
END:VEVENT
BEGIN:VEVENT
DTSTART;TZID=UTC:20240809T130000
DTEND;TZID=UTC:20240809T143000
DTSTAMP:20260421T165828
CREATED:20240723T090921Z
LAST-MODIFIED:20240723T090921Z
UID:1446-1723208400-1723213800@gkcancersupport.com
SUMMARY:Mindfulness For Women
DESCRIPTION:
URL:https://gkcancersupport.com/event/mindfulness-for-women-14/
ATTACH;FMTTYPE=image/jpeg:https://gkcancersupport.com/wp-content/uploads/2024/07/Mindfulness-for-Women-9th-august.jpg
END:VEVENT
BEGIN:VEVENT
DTSTART;TZID=UTC:20240813T113000
DTEND;TZID=UTC:20240813T123000
DTSTAMP:20260421T165828
CREATED:20240723T091041Z
LAST-MODIFIED:20240723T091041Z
UID:1449-1723548600-1723552200@gkcancersupport.com
SUMMARY:All Things Hair
DESCRIPTION:
URL:https://gkcancersupport.com/event/all-things-hair-6/
ATTACH;FMTTYPE=image/jpeg:https://gkcancersupport.com/wp-content/uploads/2024/07/All-things-hair.jpg
END:VEVENT
BEGIN:VEVENT
DTSTART;TZID=UTC:20240814T143000
DTEND;TZID=UTC:20240814T153000
DTSTAMP:20260421T165828
CREATED:20240723T091307Z
LAST-MODIFIED:20240723T091307Z
UID:1452-1723645800-1723649400@gkcancersupport.com
SUMMARY:Men's Support Group
DESCRIPTION:
URL:https://gkcancersupport.com/event/mens-support-group-13/
ATTACH;FMTTYPE=image/jpeg:https://gkcancersupport.com/wp-content/uploads/2024/07/Mens-Support-Group.jpg
END:VEVENT
BEGIN:VEVENT
DTSTART;TZID=UTC:20240815T143000
DTEND;TZID=UTC:20240815T160000
DTSTAMP:20260421T165828
CREATED:20240723T091412Z
LAST-MODIFIED:20240723T091412Z
UID:1455-1723732200-1723737600@gkcancersupport.com
SUMMARY:Chat 'N Catch Up
DESCRIPTION:
URL:https://gkcancersupport.com/event/chat-n-catch-up-8/
ATTACH;FMTTYPE=image/jpeg:https://gkcancersupport.com/wp-content/uploads/2024/07/Chat-‘N-Catch-Up15th-august.jpg
END:VEVENT
BEGIN:VEVENT
DTSTART;TZID=UTC:20240821T143000
DTEND;TZID=UTC:20240821T153000
DTSTAMP:20260421T165828
CREATED:20240723T092423Z
LAST-MODIFIED:20240723T092423Z
UID:1467-1724250600-1724254200@gkcancersupport.com
SUMMARY:Bereavement Support Group
DESCRIPTION:
URL:https://gkcancersupport.com/event/bereavement-support-group-11/
ATTACH;FMTTYPE=image/jpeg:https://gkcancersupport.com/wp-content/uploads/2024/07/Bereavment-support.jpg
END:VEVENT
BEGIN:VEVENT
DTSTART;TZID=UTC:20240822T140000
DTEND;TZID=UTC:20240822T150000
DTSTAMP:20260421T165828
CREATED:20240723T091545Z
LAST-MODIFIED:20240723T091545Z
UID:1458-1724335200-1724338800@gkcancersupport.com
SUMMARY:Mindfulness For Men
DESCRIPTION:
URL:https://gkcancersupport.com/event/mindfulness-for-men-22/
ATTACH;FMTTYPE=image/jpeg:https://gkcancersupport.com/wp-content/uploads/2024/07/Mindfullnes-For-Men-22nd-august.jpg
END:VEVENT
BEGIN:VEVENT
DTSTART;TZID=UTC:20240823T130000
DTEND;TZID=UTC:20240823T143000
DTSTAMP:20260421T165828
CREATED:20240723T091642Z
LAST-MODIFIED:20240723T091642Z
UID:1461-1724418000-1724423400@gkcancersupport.com
SUMMARY:Mindfulness For Women
DESCRIPTION:
URL:https://gkcancersupport.com/event/mindfulness-for-women-15/
ATTACH;FMTTYPE=image/jpeg:https://gkcancersupport.com/wp-content/uploads/2024/07/Mindfulness-For-Women-23rd-august.jpg
END:VEVENT
BEGIN:VEVENT
DTSTART;TZID=UTC:20240829T110000
DTEND;TZID=UTC:20240829T123000
DTSTAMP:20260421T165828
CREATED:20240723T091737Z
LAST-MODIFIED:20240723T091737Z
UID:1464-1724929200-1724934600@gkcancersupport.com
SUMMARY:Sound Bath Meditation
DESCRIPTION:
URL:https://gkcancersupport.com/event/sound-bath-meditation/
ATTACH;FMTTYPE=image/jpeg:https://gkcancersupport.com/wp-content/uploads/2024/07/Sound-Bath.jpg
END:VEVENT
END:VCALENDAR