BEGIN:VCALENDAR
VERSION:2.0
PRODID:-//The Gary Kelly Cancer Support Centre - ECPv6.1.3//NONSGML v1.0//EN
CALSCALE:GREGORIAN
METHOD:PUBLISH
X-ORIGINAL-URL:https://gkcancersupport.com
X-WR-CALDESC:Events for The Gary Kelly Cancer Support Centre
REFRESH-INTERVAL;VALUE=DURATION:PT1H
X-Robots-Tag:noindex
X-PUBLISHED-TTL:PT1H
BEGIN:VTIMEZONE
TZID:UTC
BEGIN:STANDARD
TZOFFSETFROM:+0000
TZOFFSETTO:+0000
TZNAME:UTC
DTSTART:20250101T000000
END:STANDARD
END:VTIMEZONE
BEGIN:VEVENT
DTSTART;TZID=UTC:20250402T130000
DTEND;TZID=UTC:20250402T143000
DTSTAMP:20260421T113111
CREATED:20250331T121028Z
LAST-MODIFIED:20250331T121028Z
UID:1815-1743598800-1743604200@gkcancersupport.com
SUMMARY:Sound Bath
DESCRIPTION:
URL:https://gkcancersupport.com/event/sound-bath-4/
ATTACH;FMTTYPE=image/png:https://gkcancersupport.com/wp-content/uploads/2025/03/SOUND-BATH-02.04.25-2.png
END:VEVENT
BEGIN:VEVENT
DTSTART;TZID=UTC:20250404T110000
DTEND;TZID=UTC:20250404T120000
DTSTAMP:20260421T113111
CREATED:20250331T100000Z
LAST-MODIFIED:20250331T100000Z
UID:1776-1743764400-1743768000@gkcancersupport.com
SUMMARY:Women's Support Group
DESCRIPTION:
URL:https://gkcancersupport.com/event/womens-support-group-17/
ATTACH;FMTTYPE=image/png:https://gkcancersupport.com/wp-content/uploads/2025/03/Womens-Support-Group-04.04.25.png
END:VEVENT
BEGIN:VEVENT
DTSTART;TZID=UTC:20250408T133000
DTEND;TZID=UTC:20250408T150000
DTSTAMP:20260421T113111
CREATED:20250331T100149Z
LAST-MODIFIED:20250331T100149Z
UID:1778-1744119000-1744124400@gkcancersupport.com
SUMMARY:Fatigue Talk
DESCRIPTION:
URL:https://gkcancersupport.com/event/fatigue-talk/
ATTACH;FMTTYPE=image/png:https://gkcancersupport.com/wp-content/uploads/2025/03/Fatigue-Talk-08.04.25.png
END:VEVENT
BEGIN:VEVENT
DTSTART;TZID=UTC:20250409T143000
DTEND;TZID=UTC:20250409T153000
DTSTAMP:20260421T113111
CREATED:20250331T111833Z
LAST-MODIFIED:20250331T111833Z
UID:1780-1744209000-1744212600@gkcancersupport.com
SUMMARY:Men's Support Group
DESCRIPTION:
URL:https://gkcancersupport.com/event/mens-support-group-18/
ATTACH;FMTTYPE=image/png:https://gkcancersupport.com/wp-content/uploads/2025/03/Mens-Support-Group-09.04.25.png
END:VEVENT
BEGIN:VEVENT
DTSTART;TZID=UTC:20250409T143000
DTEND;TZID=UTC:20250409T160000
DTSTAMP:20260421T113111
CREATED:20250331T112533Z
LAST-MODIFIED:20250331T112533Z
UID:1782-1744209000-1744214400@gkcancersupport.com
SUMMARY:Mindfulness for Women
DESCRIPTION:
URL:https://gkcancersupport.com/event/mindfulness-for-women-24/
ATTACH;FMTTYPE=image/png:https://gkcancersupport.com/wp-content/uploads/2025/03/Mindfulness-for-Women-09.04.25.png
END:VEVENT
BEGIN:VEVENT
DTSTART;TZID=UTC:20250414T140000
DTEND;TZID=UTC:20250414T160000
DTSTAMP:20260421T113111
CREATED:20250331T112631Z
LAST-MODIFIED:20250331T112631Z
UID:1784-1744639200-1744646400@gkcancersupport.com
SUMMARY:Easter Flowers
DESCRIPTION:
URL:https://gkcancersupport.com/event/easter-flowers/
ATTACH;FMTTYPE=image/png:https://gkcancersupport.com/wp-content/uploads/2025/03/Easter-Flowers-14.04.25.png
END:VEVENT
BEGIN:VEVENT
DTSTART;TZID=UTC:20250416T143000
DTEND;TZID=UTC:20250416T153000
DTSTAMP:20260421T113111
CREATED:20250331T112741Z
LAST-MODIFIED:20250331T112741Z
UID:1786-1744813800-1744817400@gkcancersupport.com
SUMMARY:Bereavement Support Group
DESCRIPTION:
URL:https://gkcancersupport.com/event/bereavement-support-group-16/
ATTACH;FMTTYPE=image/png:https://gkcancersupport.com/wp-content/uploads/2025/03/Bereavement-Support-Group-16.04.25.png
END:VEVENT
BEGIN:VEVENT
DTSTART;TZID=UTC:20250417T140000
DTEND;TZID=UTC:20250417T153000
DTSTAMP:20260421T113111
CREATED:20250331T112843Z
LAST-MODIFIED:20250331T112843Z
UID:1788-1744898400-1744903800@gkcancersupport.com
SUMMARY:Mindfulness for Men
DESCRIPTION:
URL:https://gkcancersupport.com/event/mindfulness-for-men-31/
ATTACH;FMTTYPE=image/png:https://gkcancersupport.com/wp-content/uploads/2025/03/Mindfulness-for-Men-17.04.25.png
END:VEVENT
BEGIN:VEVENT
DTSTART;TZID=UTC:20250423T143000
DTEND;TZID=UTC:20250423T160000
DTSTAMP:20260421T113111
CREATED:20250331T113023Z
LAST-MODIFIED:20250331T113023Z
UID:1790-1745418600-1745424000@gkcancersupport.com
SUMMARY:Mindfulness for Women
DESCRIPTION:
URL:https://gkcancersupport.com/event/mindfulness-for-women-25/
ATTACH;FMTTYPE=image/png:https://gkcancersupport.com/wp-content/uploads/2025/03/Mindfulness-for-Women-23.04.25.png
END:VEVENT
BEGIN:VEVENT
DTSTART;TZID=UTC:20250423T180000
DTEND;TZID=UTC:20250423T190000
DTSTAMP:20260421T113111
CREATED:20250331T113255Z
LAST-MODIFIED:20250331T113255Z
UID:1792-1745431200-1745434800@gkcancersupport.com
SUMMARY:Family Support Group
DESCRIPTION:
URL:https://gkcancersupport.com/event/family-support-group-5/
ATTACH;FMTTYPE=image/png:https://gkcancersupport.com/wp-content/uploads/2025/03/Family-Support-Group-23.04.25.png
END:VEVENT
BEGIN:VEVENT
DTSTART;TZID=UTC:20250424T140000
DTEND;TZID=UTC:20250424T153000
DTSTAMP:20260421T113111
CREATED:20250331T113403Z
LAST-MODIFIED:20250331T113403Z
UID:1795-1745503200-1745508600@gkcancersupport.com
SUMMARY:Mindfulness for Men
DESCRIPTION:
URL:https://gkcancersupport.com/event/mindfulness-for-men-32/
ATTACH;FMTTYPE=image/png:https://gkcancersupport.com/wp-content/uploads/2025/03/Mindfulness-for-Men-24.04.25.png
END:VEVENT
BEGIN:VEVENT
DTSTART;TZID=UTC:20250424T143000
DTEND;TZID=UTC:20250424T153000
DTSTAMP:20260421T113111
CREATED:20250331T113513Z
LAST-MODIFIED:20250331T113513Z
UID:1797-1745505000-1745508600@gkcancersupport.com
SUMMARY:Book Club
DESCRIPTION:
URL:https://gkcancersupport.com/event/book-club-10/
ATTACH;FMTTYPE=image/png:https://gkcancersupport.com/wp-content/uploads/2025/03/BOOK-CLUB-24.04.25.png
END:VEVENT
END:VCALENDAR